BEGIN:VCALENDAR
VERSION:2.0
PRODID:-//Loudmouth Productions - ECPv6.15.20//NONSGML v1.0//EN
CALSCALE:GREGORIAN
METHOD:PUBLISH
X-WR-CALNAME:Loudmouth Productions
X-ORIGINAL-URL:https://www.loudmouthproductions.ca
X-WR-CALDESC:Events for Loudmouth Productions
REFRESH-INTERVAL;VALUE=DURATION:PT1H
X-Robots-Tag:noindex
X-PUBLISHED-TTL:PT1H
BEGIN:VTIMEZONE
TZID:America/Halifax
BEGIN:DAYLIGHT
TZOFFSETFROM:-0400
TZOFFSETTO:-0300
TZNAME:ADT
DTSTART:20240310T060000
END:DAYLIGHT
BEGIN:STANDARD
TZOFFSETFROM:-0300
TZOFFSETTO:-0400
TZNAME:AST
DTSTART:20241103T050000
END:STANDARD
BEGIN:DAYLIGHT
TZOFFSETFROM:-0400
TZOFFSETTO:-0300
TZNAME:ADT
DTSTART:20250309T060000
END:DAYLIGHT
BEGIN:STANDARD
TZOFFSETFROM:-0300
TZOFFSETTO:-0400
TZNAME:AST
DTSTART:20251102T050000
END:STANDARD
BEGIN:DAYLIGHT
TZOFFSETFROM:-0400
TZOFFSETTO:-0300
TZNAME:ADT
DTSTART:20260308T060000
END:DAYLIGHT
BEGIN:STANDARD
TZOFFSETFROM:-0300
TZOFFSETTO:-0400
TZNAME:AST
DTSTART:20261101T050000
END:STANDARD
END:VTIMEZONE
BEGIN:VEVENT
DTSTART;TZID=America/Halifax:20251210T190000
DTEND;TZID=America/Halifax:20251210T213000
DTSTAMP:20260421T170633
CREATED:20250726T162650Z
LAST-MODIFIED:20250726T163017Z
UID:1452-1765393200-1765402200@www.loudmouthproductions.ca
SUMMARY:The Grand Tour With A Dash of Christmas\, Moncton\, N.B.
DESCRIPTION:Welcome to “THE GRAND TOUR” – a timeless journey through classic country music! Join us for electrifying performances of hits from the 50’s\, 60’s\, 70’s\, and 80’s.  Back by popular demand\, our Christmas show includes a few classic Country Christmas songs to get you in the spirit! \nFeaturing the charismatic Jamie Matthews on lead vocals and an all-star ensemble including: Louise Arsenault – Fiddle\, Tanya Bernard – Piano\, Danny MacNevin – Lead Guitar\, Troy McArthur – Steel Guitar\, Banjo\, Harmonica\, Kurk Bernard – Bass\, Wayne Robichaud – Drums \nExperience the soulful voices of George Jones\, Johnny Cash\, Conway Twitty\, Jim Reeves\, Charley Pride and much more\, brought to life with fresh energy and passion. These talented musicians will have you remembering the days when you would sing along to the radio!  Don’t miss this nostalgic celebration of country music’s rich heritage!  For more information\, visit www.thegrandtour.ca
URL:https://www.loudmouthproductions.ca/event/the-grand-tour-with-a-dash-of-christmas/
LOCATION:Capitol Theatre\, 811 Main Street\, Moncton\, New Brunswick\, E1X 1G5\, Canada
ATTACH;FMTTYPE=image/png:https://www.loudmouthproductions.ca/wp-content/uploads/2025/07/Xmas-The-Grand-Tour-png.png
ORGANIZER;CN="Loudmouth Productions":MAILTO:phil.bridges@pei.sympatico.ca
END:VEVENT
END:VCALENDAR