BEGIN:VCALENDAR
VERSION:2.0
PRODID:-//Loudmouth Productions - ECPv6.15.20//NONSGML v1.0//EN
CALSCALE:GREGORIAN
METHOD:PUBLISH
X-WR-CALNAME:Loudmouth Productions
X-ORIGINAL-URL:https://www.loudmouthproductions.ca
X-WR-CALDESC:Events for Loudmouth Productions
REFRESH-INTERVAL;VALUE=DURATION:PT1H
X-Robots-Tag:noindex
X-PUBLISHED-TTL:PT1H
BEGIN:VTIMEZONE
TZID:America/Halifax
BEGIN:DAYLIGHT
TZOFFSETFROM:-0400
TZOFFSETTO:-0300
TZNAME:ADT
DTSTART:20250309T060000
END:DAYLIGHT
BEGIN:STANDARD
TZOFFSETFROM:-0300
TZOFFSETTO:-0400
TZNAME:AST
DTSTART:20251102T050000
END:STANDARD
BEGIN:DAYLIGHT
TZOFFSETFROM:-0400
TZOFFSETTO:-0300
TZNAME:ADT
DTSTART:20260308T060000
END:DAYLIGHT
BEGIN:STANDARD
TZOFFSETFROM:-0300
TZOFFSETTO:-0400
TZNAME:AST
DTSTART:20261101T050000
END:STANDARD
BEGIN:DAYLIGHT
TZOFFSETFROM:-0400
TZOFFSETTO:-0300
TZNAME:ADT
DTSTART:20270314T060000
END:DAYLIGHT
BEGIN:STANDARD
TZOFFSETFROM:-0300
TZOFFSETTO:-0400
TZNAME:AST
DTSTART:20271107T050000
END:STANDARD
END:VTIMEZONE
BEGIN:VEVENT
DTSTART;TZID=America/Halifax:20260213T193000
DTEND;TZID=America/Halifax:20260213T213000
DTSTAMP:20260421T141749
CREATED:20251011T183425Z
LAST-MODIFIED:20251011T183425Z
UID:1470-1771011000-1771018200@www.loudmouthproductions.ca
SUMMARY:The Grand Tour - Memramcook\, NB
DESCRIPTION:Are you ready to experience The Grand Tour?  Featured on CTV’s The Scene\, this group of musicians from PEI have been selling out all over the Maritimes\, including 13 straight sell outs on PEI.  We can’t wait to come to the historic Monument Lefebvre Theatre with this celebration of classic country music.  Find out for yourself why everyone is talking about this show. \n“THE GRAND TOUR” is a timeless journey through classic country music! Join us for electrifying performances of hits from the 50’s\, 60’s\, 70’s\, and 80’s. \nExperience the soulful voices of George Jones\, Johnny Cash\, Conway Twitty\, Jim Reeves\, Charley Pride and much more\, brought to life with fresh energy and passion. These talented musicians will have you remembering the days when you would sing along to the radio or sitting at the Grand Ole Opry!  Don’t miss this nostalgic celebration of country music’s rich heritage! \nFor info on the amazing backgrounds of the musicians in The Grand Tour visit www.thegrandtour.ca \n  \nÊtes-vous prêt à vivre The Grand Tour ? Présenté sur l’émission The Scene de CTV\, ce groupe de musiciens de l’Île-du-Prince-Édouard a affiché complet partout dans les Maritimes\, y compris 13 représentations consécutives complètes sur l’Île-du-Prince-Édouard. Nous avons hâte de venir au théâtre historique Monument Lefebvre pour cette célébration de la musique country classique. Découvrez par vous-même pourquoi tout le monde parle de ce spectacle.”THE GRAND TOUR” est un voyage intemporel à travers la musique country classique ! Rejoignez-nous pour des performances électrisantes des succès des années 50\, 60\, 70 et 80.Vivez les voix pleines d’émotion de George Jones\, Johnny Cash\, Conway Twitty\, Jim Reeves\, Charley Pride et bien d’autres\, rendues vivantes avec une énergie et une passion nouvelles. Ces musiciens talentueux vous feront revivre les jours où vous chantiez en écoutant la radio ou assis au Grand Ole Opry ! Ne manquez pas cette célébration nostalgique du riche patrimoine de la musique country !Pour en savoir plus sur les incroyables parcours des musiciens de The Grand Tour\, visitez www.thegrandtour.ca
URL:https://www.loudmouthproductions.ca/event/the-grand-tour-memramcook-nb/
LOCATION:Monument Lefebvre\, 480 Centrale St.\, Memramcook\, New Brunswick\, E4K 3S6\, Canada
ATTACH;FMTTYPE=image/jpeg:https://www.loudmouthproductions.ca/wp-content/uploads/2024/10/GT-Logo03.jpg
ORGANIZER;CN="Loudmouth Productions":MAILTO:phil.bridges@pei.sympatico.ca
END:VEVENT
END:VCALENDAR