BEGIN:VCALENDAR
VERSION:2.0
PRODID:-//Loudmouth Productions - ECPv6.15.20//NONSGML v1.0//EN
CALSCALE:GREGORIAN
METHOD:PUBLISH
X-WR-CALNAME:Loudmouth Productions
X-ORIGINAL-URL:https://www.loudmouthproductions.ca
X-WR-CALDESC:Events for Loudmouth Productions
REFRESH-INTERVAL;VALUE=DURATION:PT1H
X-Robots-Tag:noindex
X-PUBLISHED-TTL:PT1H
BEGIN:VTIMEZONE
TZID:America/Halifax
BEGIN:DAYLIGHT
TZOFFSETFROM:-0400
TZOFFSETTO:-0300
TZNAME:ADT
DTSTART:20250309T060000
END:DAYLIGHT
BEGIN:STANDARD
TZOFFSETFROM:-0300
TZOFFSETTO:-0400
TZNAME:AST
DTSTART:20251102T050000
END:STANDARD
BEGIN:DAYLIGHT
TZOFFSETFROM:-0400
TZOFFSETTO:-0300
TZNAME:ADT
DTSTART:20260308T060000
END:DAYLIGHT
BEGIN:STANDARD
TZOFFSETFROM:-0300
TZOFFSETTO:-0400
TZNAME:AST
DTSTART:20261101T050000
END:STANDARD
BEGIN:DAYLIGHT
TZOFFSETFROM:-0400
TZOFFSETTO:-0300
TZNAME:ADT
DTSTART:20270314T060000
END:DAYLIGHT
BEGIN:STANDARD
TZOFFSETFROM:-0300
TZOFFSETTO:-0400
TZNAME:AST
DTSTART:20271107T050000
END:STANDARD
END:VTIMEZONE
BEGIN:VEVENT
DTSTART;TZID=America/Halifax:20260214T193000
DTEND;TZID=America/Halifax:20260214T213000
DTSTAMP:20260421T141743
CREATED:20251011T183623Z
LAST-MODIFIED:20260204T001554Z
UID:1473-1771097400-1771104600@www.loudmouthproductions.ca
SUMMARY:The Grand Tour - Pictou\, NS - SOLD OUT!
DESCRIPTION:Back by popular demand! After selling out our first show at The deCoste Performing Arts Centre in April 2025\, we can’t wait to come back!  This Sold Out early last year so don’t wait to get your tickets! Great way to spend Valentine’s Day! \nFind out for yourself why everyone is talking about this show. \n“THE GRAND TOUR” is a timeless journey through classic country music! Join us for electrifying performances of hits from the 50’s\, 60’s\, 70’s\, and 80’s. \nExperience the soulful voices of George Jones\, Johnny Cash\, Conway Twitty\, Jim Reeves\, Charley Pride and much more\, brought to life with fresh energy and passion. These talented musicians will have you remembering the days when you would sing along to the radio or sitting at the Grand Ole Opry!  Don’t miss this nostalgic celebration of country music’s rich heritage! \nFor info on the amazing backgrounds of the musicians in The Grand Tour visit www.thegrandtour.ca
URL:https://www.loudmouthproductions.ca/event/the-grand-tour-pictou-ns/
LOCATION:deCoste Performing Arts Centre\, 99 Water Street\, Pictou\, Nova Scotia\, B0K 1H0\, Canada
ATTACH;FMTTYPE=image/jpeg:https://www.loudmouthproductions.ca/wp-content/uploads/2024/10/GT-Logo03.jpg
ORGANIZER;CN="Loudmouth Productions":MAILTO:phil.bridges@pei.sympatico.ca
END:VEVENT
END:VCALENDAR