BEGIN:VCALENDAR
VERSION:2.0
PRODID:-//Loudmouth Productions - ECPv6.15.20//NONSGML v1.0//EN
CALSCALE:GREGORIAN
METHOD:PUBLISH
X-ORIGINAL-URL:https://www.loudmouthproductions.ca
X-WR-CALDESC:Events for Loudmouth Productions
REFRESH-INTERVAL;VALUE=DURATION:PT1H
X-Robots-Tag:noindex
X-PUBLISHED-TTL:PT1H
BEGIN:VTIMEZONE
TZID:America/Halifax
BEGIN:DAYLIGHT
TZOFFSETFROM:-0400
TZOFFSETTO:-0300
TZNAME:ADT
DTSTART:20250309T060000
END:DAYLIGHT
BEGIN:STANDARD
TZOFFSETFROM:-0300
TZOFFSETTO:-0400
TZNAME:AST
DTSTART:20251102T050000
END:STANDARD
BEGIN:DAYLIGHT
TZOFFSETFROM:-0400
TZOFFSETTO:-0300
TZNAME:ADT
DTSTART:20260308T060000
END:DAYLIGHT
BEGIN:STANDARD
TZOFFSETFROM:-0300
TZOFFSETTO:-0400
TZNAME:AST
DTSTART:20261101T050000
END:STANDARD
BEGIN:DAYLIGHT
TZOFFSETFROM:-0400
TZOFFSETTO:-0300
TZNAME:ADT
DTSTART:20270314T060000
END:DAYLIGHT
BEGIN:STANDARD
TZOFFSETFROM:-0300
TZOFFSETTO:-0400
TZNAME:AST
DTSTART:20271107T050000
END:STANDARD
END:VTIMEZONE
BEGIN:VEVENT
DTSTART;TZID=America/Halifax:20260228T193000
DTEND;TZID=America/Halifax:20260228T213000
DTSTAMP:20260421T125236
CREATED:20251011T183816Z
LAST-MODIFIED:20251011T183816Z
UID:1475-1772307000-1772314200@www.loudmouthproductions.ca
SUMMARY:The Grand Tour - Tracadie\, NB
DESCRIPTION:Back by popular demand! After the tremendous response from our first visit to J. Armand-Lavoie Theatre in February 2025\, we can’t wait to come back!  This show will sell out so don’t wait to get your tickets! \nFind out for yourself why everyone is talking about this show. \n“THE GRAND TOUR” is a timeless journey through classic country music! Join us for electrifying performances of hits from the 50’s\, 60’s\, 70’s\, and 80’s. \nExperience the soulful voices of George Jones\, Johnny Cash\, Conway Twitty\, Jim Reeves\, Charley Pride and much more\, brought to life with fresh energy and passion. These talented musicians will have you remembering the days when you would sing along to the radio or sitting at the Grand Ole Opry!  Don’t miss this nostalgic celebration of country music’s rich heritage! \nFor info on the amazing backgrounds of the musicians in The Grand Tour visit www.thegrandtour.ca \n  \nDe retour par la demande populaire! Après la réponse énorme de notre première visite au Théâtre J. Armand-Lavoie en février 2025\, nous sommes impatients de revenir! Ce spectacle va se vendre\, alors n’attendez pas pour prendre vos billets! Découvrez par vous-même pourquoi tout le monde parle de ce spectacle. “LE GRAND TOUR” est un voyage intemporel à travers la musique country classique! Rejoignez-nous pour des performances électrisantes de succès des années 50\, 60\, 70 et 80.Vivez les voix enchanteresses de George Jones\, Johnny Cash\, Conway Twitty\, Jim Reeves\, Charley Pride et bien d’autres\, revivifiées avec une énergie et une passion nouvelles. Ces musiciens talentueux vous feront souvenir des jours où vous chantiez en écoutant la radio ou assis au Grand Ole Opry! Ne manquez pas cette célébration nostalgique du riche héritage de la musique country! Pour des informations sur les parcours incroyables des musiciens du Grand Tour\, visitez www.thegrandtour.ca
URL:https://www.loudmouthproductions.ca/event/the-grand-tour-tracadie-nb/
LOCATION:Salle J.-Armand-Lavoie\, 585\, Rue de l'Église\, Tracadie-Sheila\, New Brunswick\, E1X 1G5\, Canada
ATTACH;FMTTYPE=image/jpeg:https://www.loudmouthproductions.ca/wp-content/uploads/2024/10/GT-Logo03.jpg
ORGANIZER;CN="Loudmouth Productions":MAILTO:phil.bridges@pei.sympatico.ca
END:VEVENT
END:VCALENDAR