BEGIN:VCALENDAR
VERSION:2.0
PRODID:-//Loudmouth Productions - ECPv6.15.20//NONSGML v1.0//EN
CALSCALE:GREGORIAN
METHOD:PUBLISH
X-WR-CALNAME:Loudmouth Productions
X-ORIGINAL-URL:https://www.loudmouthproductions.ca
X-WR-CALDESC:Events for Loudmouth Productions
REFRESH-INTERVAL;VALUE=DURATION:PT1H
X-Robots-Tag:noindex
X-PUBLISHED-TTL:PT1H
BEGIN:VTIMEZONE
TZID:America/Halifax
BEGIN:DAYLIGHT
TZOFFSETFROM:-0400
TZOFFSETTO:-0300
TZNAME:ADT
DTSTART:20250309T060000
END:DAYLIGHT
BEGIN:STANDARD
TZOFFSETFROM:-0300
TZOFFSETTO:-0400
TZNAME:AST
DTSTART:20251102T050000
END:STANDARD
BEGIN:DAYLIGHT
TZOFFSETFROM:-0400
TZOFFSETTO:-0300
TZNAME:ADT
DTSTART:20260308T060000
END:DAYLIGHT
BEGIN:STANDARD
TZOFFSETFROM:-0300
TZOFFSETTO:-0400
TZNAME:AST
DTSTART:20261101T050000
END:STANDARD
BEGIN:DAYLIGHT
TZOFFSETFROM:-0400
TZOFFSETTO:-0300
TZNAME:ADT
DTSTART:20270314T060000
END:DAYLIGHT
BEGIN:STANDARD
TZOFFSETFROM:-0300
TZOFFSETTO:-0400
TZNAME:AST
DTSTART:20271107T050000
END:STANDARD
END:VTIMEZONE
BEGIN:VEVENT
DTSTART;TZID=America/Halifax:20260404T210000
DTEND;TZID=America/Halifax:20260404T233000
DTSTAMP:20260421T113055
CREATED:20260318T185046Z
LAST-MODIFIED:20260318T185046Z
UID:1528-1775336400-1775345400@www.loudmouthproductions.ca
SUMMARY:Bad Reputation - Tribute To Joan Jett - Halifax
DESCRIPTION:Halifax get ready to Rock at Monte’s Showbar Grill! \nGet ready for the ultimate tribute to rock legend Joan Jett with Bad Reputation\, the premier homage to the iconic musician! This high-energy band\, made up of experienced musicians with over 60 years of combined expertise\, delivers an authentic celebration of Joan Jett and the Blackhearts. \nExpect a heart-pounding set list of Jett’s most beloved anthems\, including “I Love Rock ‘n’ Roll\,” “Do You Want to Touch Me\,” “Crimson & Clover\,” “Cherry Bomb\,” “I Hate Myself for Loving You\,” and of course\, “Bad Reputation.” The band also brings Joan’s signature edge to a selection of cover songs that she made her own\, including hits from CCR\, AC/DC\, ZZ Top\, and more. \nFor rock fans who crave authenticity and adrenaline\, Bad Reputation is a can’t-miss experience. This show is a fiery tribute to the Queen of Rock herself\, celebrating over four decades of unstoppable\, electrifying rock and roll. Don’t miss your chance to relive the era-defining sound of one of the greatest icons in music history!
URL:https://www.loudmouthproductions.ca/event/bad-reputation-tribute-to-joan-jett-halifax/
LOCATION:Monte’s Showbar Grill\, 245 Waverly Rd.\, Halifax\, Nova Scotia\, B2X 2C5\, Canada
ATTACH;FMTTYPE=image/png:https://www.loudmouthproductions.ca/wp-content/uploads/2024/11/Bad-Reputation-Logo-good.png
ORGANIZER;CN="Loudmouth Productions":MAILTO:phil.bridges@pei.sympatico.ca
END:VEVENT
END:VCALENDAR