BEGIN:VCALENDAR
VERSION:2.0
PRODID:-//Loudmouth Productions - ECPv6.15.20//NONSGML v1.0//EN
CALSCALE:GREGORIAN
METHOD:PUBLISH
X-WR-CALNAME:Loudmouth Productions
X-ORIGINAL-URL:https://www.loudmouthproductions.ca
X-WR-CALDESC:Events for Loudmouth Productions
REFRESH-INTERVAL;VALUE=DURATION:PT1H
X-Robots-Tag:noindex
X-PUBLISHED-TTL:PT1H
BEGIN:VTIMEZONE
TZID:America/Halifax
BEGIN:DAYLIGHT
TZOFFSETFROM:-0400
TZOFFSETTO:-0300
TZNAME:ADT
DTSTART:20250309T060000
END:DAYLIGHT
BEGIN:STANDARD
TZOFFSETFROM:-0300
TZOFFSETTO:-0400
TZNAME:AST
DTSTART:20251102T050000
END:STANDARD
BEGIN:DAYLIGHT
TZOFFSETFROM:-0400
TZOFFSETTO:-0300
TZNAME:ADT
DTSTART:20260308T060000
END:DAYLIGHT
BEGIN:STANDARD
TZOFFSETFROM:-0300
TZOFFSETTO:-0400
TZNAME:AST
DTSTART:20261101T050000
END:STANDARD
BEGIN:DAYLIGHT
TZOFFSETFROM:-0400
TZOFFSETTO:-0300
TZNAME:ADT
DTSTART:20270314T060000
END:DAYLIGHT
BEGIN:STANDARD
TZOFFSETFROM:-0300
TZOFFSETTO:-0400
TZNAME:AST
DTSTART:20271107T050000
END:STANDARD
END:VTIMEZONE
BEGIN:VEVENT
DTSTART;TZID=America/Halifax:20261009T190000
DTEND;TZID=America/Halifax:20261009T213000
DTSTAMP:20260421T202618
CREATED:20260318T185826Z
LAST-MODIFIED:20260318T185826Z
UID:1531-1791572400-1791581400@www.loudmouthproductions.ca
SUMMARY:The Grand Tour - Edmundston\, NB
DESCRIPTION:Prêts pour l’aventure The Grand Tour? Présenté à l’émission The Scene de CTV\, ce groupe de musiciens de l’Île-du-Prince-Édouard fait salle comble partout dans les Maritimes\, dont 13 concerts consécutifs à guichets fermés à l’Île-du-Prince-Édouard. Nous sommes impatients de vous présenter à Edmundston ce spectacle qui célèbre la musique country classique. Découvrez par vous-même pourquoi tout le monde parle de ce spectacle.\nTHE GRAND TOUR est un voyage intemporel à travers la musique country classique ! Joignez-vous à nous pour des interprétations électrisantes des succès des années 50\, 60\, 70 et 80.\nLaissez-vous emporter par les voix envoûtantes de George Jones\, Johnny Cash\, Conway Twitty\, Jim Reeves\, Charley Pride et bien d’autres\, réinterprétées avec une énergie et une passion renouvelées. Ces musiciens talentueux vous replongeront dans vos souvenirs d’enfance\, lorsque vous chantiez à tue-tête à la radio ou au Grand Ole Opry! Ne manquez pas cette célébration nostalgique du riche patrimoine de la musique country! Pour en savoir plus sur les parcours exceptionnels des musiciens de The Grand Tour\, visitez www.thegrandtour.ca \nAre you ready to experience The Grand Tour?  Featured on CTV’s The Scene\, this group of musicians from PEI have been selling out all over the Maritimes\, including 13 straight sell outs on PEI.  We can’t wait to come to Edmundston with this celebration of classic country music.  Find out for yourself why everyone is talking about this show.\n“THE GRAND TOUR” is a timeless journey through classic country music! Join us for electrifying performances of hits from the 50’s\, 60’s\, 70’s\, and 80’s.\nExperience the soulful voices of George Jones\, Johnny Cash\, Conway Twitty\, Jim Reeves\, Charley Pride and much more\, brought to life with fresh energy and passion. These talented musicians will have you remembering the days when you would sing along to the radio or sitting at the Grand Ole Opry!  Don’t miss this nostalgic celebration of country music’s rich heritage!\nFor info on the amazing backgrounds of the musicians in The Grand Tour visit www.thegrandtour.ca
URL:https://www.loudmouthproductions.ca/event/the-grand-tour-edmundston-nb/
LOCATION:Salle Leo-Poulin\, 298 Rue Martin\, Edmundston\, New Brunswick\, E3V 5E5\, Canada
ATTACH;FMTTYPE=image/jpeg:https://www.loudmouthproductions.ca/wp-content/uploads/2024/10/GT-Logo03.jpg
ORGANIZER;CN="Loudmouth Productions":MAILTO:phil.bridges@pei.sympatico.ca
END:VEVENT
END:VCALENDAR