BEGIN:VCALENDAR
VERSION:2.0
PRODID:-//Loudmouth Productions - ECPv6.15.20//NONSGML v1.0//EN
CALSCALE:GREGORIAN
METHOD:PUBLISH
X-WR-CALNAME:Loudmouth Productions
X-ORIGINAL-URL:https://www.loudmouthproductions.ca
X-WR-CALDESC:Events for Loudmouth Productions
REFRESH-INTERVAL;VALUE=DURATION:PT1H
X-Robots-Tag:noindex
X-PUBLISHED-TTL:PT1H
BEGIN:VTIMEZONE
TZID:America/Halifax
BEGIN:DAYLIGHT
TZOFFSETFROM:-0400
TZOFFSETTO:-0300
TZNAME:ADT
DTSTART:20250309T060000
END:DAYLIGHT
BEGIN:STANDARD
TZOFFSETFROM:-0300
TZOFFSETTO:-0400
TZNAME:AST
DTSTART:20251102T050000
END:STANDARD
BEGIN:DAYLIGHT
TZOFFSETFROM:-0400
TZOFFSETTO:-0300
TZNAME:ADT
DTSTART:20260308T060000
END:DAYLIGHT
BEGIN:STANDARD
TZOFFSETFROM:-0300
TZOFFSETTO:-0400
TZNAME:AST
DTSTART:20261101T050000
END:STANDARD
BEGIN:DAYLIGHT
TZOFFSETFROM:-0400
TZOFFSETTO:-0300
TZNAME:ADT
DTSTART:20270314T060000
END:DAYLIGHT
BEGIN:STANDARD
TZOFFSETFROM:-0300
TZOFFSETTO:-0400
TZNAME:AST
DTSTART:20271107T050000
END:STANDARD
END:VTIMEZONE
BEGIN:VEVENT
DTSTART;TZID=America/Halifax:20261023T190000
DTEND;TZID=America/Halifax:20261023T213000
DTSTAMP:20260421T232733
CREATED:20260318T191412Z
LAST-MODIFIED:20260318T191412Z
UID:1537-1792782000-1792791000@www.loudmouthproductions.ca
SUMMARY:The Grand Tour - Liverpool\, NS
DESCRIPTION:After selling out more than 25 shows throughout the Maritimes\, The Grand Tour are coming to Liverpool\, NS! Find out for yourself why everyone is talking about this show.\n“THE GRAND TOUR” is a timeless journey through classic country music! Join us for electrifying performances of hits from the 50’s\, 60’s\, 70’s\, and 80’s.\nExperience the soulful voices of George Jones\, Johnny Cash\, Conway Twitty\, Jim Reeves\, Charley Pride and much more\, brought to life with fresh energy and passion. These talented musicians will have you remembering the days when you would sing along to the radio or sitting at the Grand Ole Opry!  Don’t miss this nostalgic celebration of country music’s rich heritage!\nFor info on the amazing backgrounds of the musicians from PEI in The Grand Tour visit www.thegrandtour.ca
URL:https://www.loudmouthproductions.ca/event/the-grand-tour-liverpool-ns/
LOCATION:Astor Theatre\, 219 Main St.\, Liverpool\, Nova Scotia\, B0T1K0\, Canada
ATTACH;FMTTYPE=image/jpeg:https://www.loudmouthproductions.ca/wp-content/uploads/2024/10/GT-Logo03.jpg
ORGANIZER;CN="Loudmouth Productions":MAILTO:phil.bridges@pei.sympatico.ca
END:VEVENT
BEGIN:VEVENT
DTSTART;TZID=America/Halifax:20261024T190000
DTEND;TZID=America/Halifax:20261024T213000
DTSTAMP:20260421T232733
CREATED:20260318T190356Z
LAST-MODIFIED:20260318T190356Z
UID:1534-1792868400-1792877400@www.loudmouthproductions.ca
SUMMARY:The Grand Tour - Windsor\, NS
DESCRIPTION:After selling out more than 20 shows throughout the Maritimes in 2025\, The Grand Tour are coming to Windsor\, NS! Find out for yourself why everyone is talking about this show.\n“THE GRAND TOUR” is a timeless journey through classic country music! Join us for electrifying performances of hits from the 50’s\, 60’s\, 70’s\, and 80’s.\nExperience the soulful voices of George Jones\, Johnny Cash\, Conway Twitty\, Jim Reeves\, Charley Pride and much more\, brought to life with fresh energy and passion. These talented musicians will have you remembering the days when you would sing along to the radio or sitting at the Grand Ole Opry!  Don’t miss this nostalgic celebration of country music’s rich heritage!\nFor info on the amazing backgrounds of the musicians from PEI in The Grand Tour visit www.thegrandtour.ca
URL:https://www.loudmouthproductions.ca/event/the-grand-tour-windsor-ns/
LOCATION:Mermaid Theatre\, 132 Gerrish St.\, Windsor\, Nova Scotia\, B0N 2T0\, Canada
ATTACH;FMTTYPE=image/jpeg:https://www.loudmouthproductions.ca/wp-content/uploads/2024/10/GT-Logo03.jpg
ORGANIZER;CN="Loudmouth Productions":MAILTO:phil.bridges@pei.sympatico.ca
END:VEVENT
BEGIN:VEVENT
DTSTART;TZID=America/Halifax:20261217T190000
DTEND;TZID=America/Halifax:20261217T213000
DTSTAMP:20260421T232733
CREATED:20260408T232333Z
LAST-MODIFIED:20260408T232333Z
UID:1550-1797534000-1797543000@www.loudmouthproductions.ca
SUMMARY:The Grand Tour With A Dash of Christmas - Summerside\, PEI
DESCRIPTION:After selling out more than 30 shows throughout the Maritimes\, The Grand Tour are coming back to Summerside\, PEI where it all started with our Christmas show.  These sold out in June last year!\n“THE GRAND TOUR” is a timeless journey through classic country music! Join us for electrifying performances of hits from the 50’s\, 60’s\, 70’s\, and 80’s.\nExperience the soulful voices of George Jones\, Johnny Cash\, Conway Twitty\, Jim Reeves\, Charley Pride and much more\, brought to life with fresh energy and passion. These talented musicians will have you remembering the days when you would sing along to the radio or sitting at the Grand Ole Opry!  Don’t miss this nostalgic celebration of country music’s rich heritage!\nFor info on the amazing backgrounds of the musicians from PEI in The Grand Tour visit www.thegrandtour.ca
URL:https://www.loudmouthproductions.ca/event/the-grand-tour-with-a-dash-of-christmas-summerside-pei-4/
LOCATION:The Scott MacAulay Performing Arts Centre\, College of Piping\, 619 Water St E\, Summerside\, PE\, C1N 4H8\, Canada
ATTACH;FMTTYPE=image/png:https://www.loudmouthproductions.ca/wp-content/uploads/2025/07/Xmas-The-Grand-Tour-png.png
ORGANIZER;CN="Loudmouth Productions":MAILTO:phil.bridges@pei.sympatico.ca
END:VEVENT
BEGIN:VEVENT
DTSTART;TZID=America/Halifax:20261218T190000
DTEND;TZID=America/Halifax:20261218T213000
DTSTAMP:20260421T232733
CREATED:20260408T232519Z
LAST-MODIFIED:20260408T232519Z
UID:1552-1797620400-1797629400@www.loudmouthproductions.ca
SUMMARY:The Grand Tour With A Dash of Christmas - Summerside\, PEI
DESCRIPTION:After selling out more than 30 shows throughout the Maritimes\, The Grand Tour are coming back to Summerside\, PEI where it all started with our Christmas show.  These sold out in June last year!\n“THE GRAND TOUR” is a timeless journey through classic country music! Join us for electrifying performances of hits from the 50’s\, 60’s\, 70’s\, and 80’s.\nExperience the soulful voices of George Jones\, Johnny Cash\, Conway Twitty\, Jim Reeves\, Charley Pride and much more\, brought to life with fresh energy and passion. These talented musicians will have you remembering the days when you would sing along to the radio or sitting at the Grand Ole Opry!  Don’t miss this nostalgic celebration of country music’s rich heritage!\nFor info on the amazing backgrounds of the musicians from PEI in The Grand Tour visit www.thegrandtour.ca
URL:https://www.loudmouthproductions.ca/event/the-grand-tour-with-a-dash-of-christmas-summerside-pei-5/
LOCATION:The Scott MacAulay Performing Arts Centre\, College of Piping\, 619 Water St E\, Summerside\, PE\, C1N 4H8\, Canada
ATTACH;FMTTYPE=image/png:https://www.loudmouthproductions.ca/wp-content/uploads/2025/07/Xmas-The-Grand-Tour-png.png
ORGANIZER;CN="Loudmouth Productions":MAILTO:phil.bridges@pei.sympatico.ca
END:VEVENT
BEGIN:VEVENT
DTSTART;TZID=America/Halifax:20261219T190000
DTEND;TZID=America/Halifax:20261219T213000
DTSTAMP:20260421T232733
CREATED:20260408T232658Z
LAST-MODIFIED:20260408T232658Z
UID:1554-1797706800-1797715800@www.loudmouthproductions.ca
SUMMARY:The Grand Tour With A Dash of Christmas - Summerside\, PEI
DESCRIPTION:After selling out more than 30 shows throughout the Maritimes\, The Grand Tour are coming back to Summerside\, PEI where it all started with our Christmas show.  These sold out in June last year!\n“THE GRAND TOUR” is a timeless journey through classic country music! Join us for electrifying performances of hits from the 50’s\, 60’s\, 70’s\, and 80’s.\nExperience the soulful voices of George Jones\, Johnny Cash\, Conway Twitty\, Jim Reeves\, Charley Pride and much more\, brought to life with fresh energy and passion. These talented musicians will have you remembering the days when you would sing along to the radio or sitting at the Grand Ole Opry!  Don’t miss this nostalgic celebration of country music’s rich heritage!\nFor info on the amazing backgrounds of the musicians from PEI in The Grand Tour visit www.thegrandtour.ca
URL:https://www.loudmouthproductions.ca/event/the-grand-tour-with-a-dash-of-christmas-summerside-pei-6/
LOCATION:The Scott MacAulay Performing Arts Centre\, College of Piping\, 619 Water St E\, Summerside\, PE\, C1N 4H8\, Canada
ATTACH;FMTTYPE=image/png:https://www.loudmouthproductions.ca/wp-content/uploads/2025/07/Xmas-The-Grand-Tour-png.png
ORGANIZER;CN="Loudmouth Productions":MAILTO:phil.bridges@pei.sympatico.ca
END:VEVENT
END:VCALENDAR