BEGIN:VCALENDAR
VERSION:2.0
PRODID:-//Loudmouth Productions - ECPv6.15.20//NONSGML v1.0//EN
CALSCALE:GREGORIAN
METHOD:PUBLISH
X-WR-CALNAME:Loudmouth Productions
X-ORIGINAL-URL:https://www.loudmouthproductions.ca
X-WR-CALDESC:Events for Loudmouth Productions
REFRESH-INTERVAL;VALUE=DURATION:PT1H
X-Robots-Tag:noindex
X-PUBLISHED-TTL:PT1H
BEGIN:VTIMEZONE
TZID:America/Halifax
BEGIN:DAYLIGHT
TZOFFSETFROM:-0400
TZOFFSETTO:-0300
TZNAME:ADT
DTSTART:20230312T060000
END:DAYLIGHT
BEGIN:STANDARD
TZOFFSETFROM:-0300
TZOFFSETTO:-0400
TZNAME:AST
DTSTART:20231105T050000
END:STANDARD
BEGIN:DAYLIGHT
TZOFFSETFROM:-0400
TZOFFSETTO:-0300
TZNAME:ADT
DTSTART:20240310T060000
END:DAYLIGHT
BEGIN:STANDARD
TZOFFSETFROM:-0300
TZOFFSETTO:-0400
TZNAME:AST
DTSTART:20241103T050000
END:STANDARD
BEGIN:DAYLIGHT
TZOFFSETFROM:-0400
TZOFFSETTO:-0300
TZNAME:ADT
DTSTART:20250309T060000
END:DAYLIGHT
BEGIN:STANDARD
TZOFFSETFROM:-0300
TZOFFSETTO:-0400
TZNAME:AST
DTSTART:20251102T050000
END:STANDARD
END:VTIMEZONE
BEGIN:VEVENT
DTSTART;TZID=America/Halifax:20240405T200000
DTEND;TZID=America/Halifax:20240405T230000
DTSTAMP:20260421T190821
CREATED:20240429T120550Z
LAST-MODIFIED:20240429T184052Z
UID:1180-1712347200-1712358000@www.loudmouthproductions.ca
SUMMARY:Tony Lee Comedy Hypnosis
DESCRIPTION:Step into the legendary world of Tony Lee\, a Canadian Hall of Fame icon whose show has stood the test of time for an incredible four decades! Brace yourself for a journey back to the golden era of comedy\, where laughter was raw\, unfiltered\, and left audiences in stitches until their stomachs ached. \nAn unforgettable evening with Tony Lee’s un-filtered Gen-X Comedy Hypnosis show. A show created in the Generation that just didn’t give a Sh*t and had the least amount of parental supervision as kids. Voted and awarded one of the most successful performances in Canadian History. \nYou deserve an evening of laughter!!!\nRated: Mature Subject Matter (90 min performance). \nSEE YOU THERE!!!
URL:https://www.loudmouthproductions.ca/event/tony-lee-comedy-hypnosis/
LOCATION:The Scott MacAulay Performing Arts Centre\, College of Piping\, 619 Water St E\, Summerside\, PE\, C1N 4H8\, Canada
ATTACH;FMTTYPE=image/jpeg:https://www.loudmouthproductions.ca/wp-content/uploads/2024/03/Tony-Lee-1920-x-1080-poster-scaled.jpg
END:VEVENT
END:VCALENDAR