BEGIN:VCALENDAR
VERSION:2.0
PRODID:-//Loudmouth Productions - ECPv6.15.20//NONSGML v1.0//EN
CALSCALE:GREGORIAN
METHOD:PUBLISH
X-WR-CALNAME:Loudmouth Productions
X-ORIGINAL-URL:https://www.loudmouthproductions.ca
X-WR-CALDESC:Events for Loudmouth Productions
REFRESH-INTERVAL;VALUE=DURATION:PT1H
X-Robots-Tag:noindex
X-PUBLISHED-TTL:PT1H
BEGIN:VTIMEZONE
TZID:America/Halifax
BEGIN:DAYLIGHT
TZOFFSETFROM:-0400
TZOFFSETTO:-0300
TZNAME:ADT
DTSTART:20240310T060000
END:DAYLIGHT
BEGIN:STANDARD
TZOFFSETFROM:-0300
TZOFFSETTO:-0400
TZNAME:AST
DTSTART:20241103T050000
END:STANDARD
BEGIN:DAYLIGHT
TZOFFSETFROM:-0400
TZOFFSETTO:-0300
TZNAME:ADT
DTSTART:20250309T060000
END:DAYLIGHT
BEGIN:STANDARD
TZOFFSETFROM:-0300
TZOFFSETTO:-0400
TZNAME:AST
DTSTART:20251102T050000
END:STANDARD
BEGIN:DAYLIGHT
TZOFFSETFROM:-0400
TZOFFSETTO:-0300
TZNAME:ADT
DTSTART:20260308T060000
END:DAYLIGHT
BEGIN:STANDARD
TZOFFSETFROM:-0300
TZOFFSETTO:-0400
TZNAME:AST
DTSTART:20261101T050000
END:STANDARD
END:VTIMEZONE
BEGIN:VEVENT
DTSTART;TZID=America/Halifax:20251206T193000
DTEND;TZID=America/Halifax:20251206T220000
DTSTAMP:20260421T154016
CREATED:20250514T182525Z
LAST-MODIFIED:20251003T001512Z
UID:1446-1765049400-1765058400@www.loudmouthproductions.ca
SUMMARY:The Grand Tour With A Dash of Christmas Georgetown\, PEI SOLD OUT
DESCRIPTION:Back By Popular Demand After 3 Sold Out Shows Last Christmas!\nJoin THE GRAND TOUR for an unforgettable evening of Country Classics with a festive twist! This show promises to transport audiences back to the golden eras of the 50s\, 60s\, 70s\, and 80s\, while also sprinkling in a dash of Christmas cheer with classic holiday songs that everyone can sing along to!\nThere is no better way to get in the Christmas spirit than spending time with family and friends and listening to classic country music by The Grand Tour!\nDon’t miss this heartwarming blend of timeless country hits and holiday favorites – it’s the perfect way to celebrate the season! \n“Step right up\, Come on in…”
URL:https://www.loudmouthproductions.ca/event/the-grand-tour-with-a-dash-of-christmas-georgetown-pei/
LOCATION:King’s Playhouse\, 65 Grafton St.\, Georgetown\, PEI\, C0A1L0\, Canada
ATTACH;FMTTYPE=image/jpeg:https://www.loudmouthproductions.ca/wp-content/uploads/2025/05/The-Grand-Tour-Christmas-logo-2.jpeg
ORGANIZER;CN="Loudmouth Productions":MAILTO:phil.bridges@pei.sympatico.ca
END:VEVENT
BEGIN:VEVENT
DTSTART;TZID=America/Halifax:20251210T190000
DTEND;TZID=America/Halifax:20251210T213000
DTSTAMP:20260421T154016
CREATED:20250726T162650Z
LAST-MODIFIED:20250726T163017Z
UID:1452-1765393200-1765402200@www.loudmouthproductions.ca
SUMMARY:The Grand Tour With A Dash of Christmas\, Moncton\, N.B.
DESCRIPTION:Welcome to “THE GRAND TOUR” – a timeless journey through classic country music! Join us for electrifying performances of hits from the 50’s\, 60’s\, 70’s\, and 80’s.  Back by popular demand\, our Christmas show includes a few classic Country Christmas songs to get you in the spirit! \nFeaturing the charismatic Jamie Matthews on lead vocals and an all-star ensemble including: Louise Arsenault – Fiddle\, Tanya Bernard – Piano\, Danny MacNevin – Lead Guitar\, Troy McArthur – Steel Guitar\, Banjo\, Harmonica\, Kurk Bernard – Bass\, Wayne Robichaud – Drums \nExperience the soulful voices of George Jones\, Johnny Cash\, Conway Twitty\, Jim Reeves\, Charley Pride and much more\, brought to life with fresh energy and passion. These talented musicians will have you remembering the days when you would sing along to the radio!  Don’t miss this nostalgic celebration of country music’s rich heritage!  For more information\, visit www.thegrandtour.ca
URL:https://www.loudmouthproductions.ca/event/the-grand-tour-with-a-dash-of-christmas/
LOCATION:Capitol Theatre\, 811 Main Street\, Moncton\, New Brunswick\, E1X 1G5\, Canada
ATTACH;FMTTYPE=image/png:https://www.loudmouthproductions.ca/wp-content/uploads/2025/07/Xmas-The-Grand-Tour-png.png
ORGANIZER;CN="Loudmouth Productions":MAILTO:phil.bridges@pei.sympatico.ca
END:VEVENT
BEGIN:VEVENT
DTSTART;TZID=America/Halifax:20251218T193000
DTEND;TZID=America/Halifax:20251218T220000
DTSTAMP:20260421T154016
CREATED:20250514T181431Z
LAST-MODIFIED:20250726T162904Z
UID:1439-1766086200-1766095200@www.loudmouthproductions.ca
SUMMARY:The Grand Tour With A Dash of Christmas Summerside\, PEI - SOLD OUT
DESCRIPTION:Back By Popular Demand After 3 Sold Out Shows Last Christmas!\nJoin THE GRAND TOUR for an unforgettable evening of Country Classics with a festive twist! This show promises to transport audiences back to the golden eras of the 50s\, 60s\, 70s\, and 80s\, while also sprinkling in a dash of Christmas cheer with classic holiday songs that everyone can sing along to!\nThere is no better way to get in the Christmas spirit than spending time with family and friends and listening to classic country music by The Grand Tour!\nDon’t miss this heartwarming blend of timeless country hits and holiday favorites – it’s the perfect way to celebrate the season! \n“Step right up\, Come on in…”
URL:https://www.loudmouthproductions.ca/event/the-grand-tour-with-a-dash-of-christmas-summerside-pei/
LOCATION:The Scott MacAulay Performing Arts Centre\, College of Piping\, 619 Water St E\, Summerside\, PE\, C1N 4H8\, Canada
ATTACH;FMTTYPE=image/jpeg:https://www.loudmouthproductions.ca/wp-content/uploads/2025/05/The-Grand-Tour-Christmas-logo-2.jpeg
ORGANIZER;CN="Loudmouth Productions":MAILTO:phil.bridges@pei.sympatico.ca
END:VEVENT
BEGIN:VEVENT
DTSTART;TZID=America/Halifax:20251219T193000
DTEND;TZID=America/Halifax:20251219T220000
DTSTAMP:20260421T154016
CREATED:20250514T181721Z
LAST-MODIFIED:20250726T162839Z
UID:1442-1766172600-1766181600@www.loudmouthproductions.ca
SUMMARY:The Grand Tour With A Dash of Christmas Summerside\, PEI - SOLD OUT
DESCRIPTION:Back By Popular Demand After 3 Sold Out Shows Last Christmas!\nJoin THE GRAND TOUR for an unforgettable evening of Country Classics with a festive twist! This show promises to transport audiences back to the golden eras of the 50s\, 60s\, 70s\, and 80s\, while also sprinkling in a dash of Christmas cheer with classic holiday songs that everyone can sing along to!\nThere is no better way to get in the Christmas spirit than spending time with family and friends and listening to classic country music by The Grand Tour!\nDon’t miss this heartwarming blend of timeless country hits and holiday favorites – it’s the perfect way to celebrate the season! \n“Step right up\, Come on in…”
URL:https://www.loudmouthproductions.ca/event/the-grand-tour-with-a-dash-of-christmas-summerside-pei-2/
LOCATION:The Scott MacAulay Performing Arts Centre\, College of Piping\, 619 Water St E\, Summerside\, PE\, C1N 4H8\, Canada
ATTACH;FMTTYPE=image/jpeg:https://www.loudmouthproductions.ca/wp-content/uploads/2025/05/The-Grand-Tour-Christmas-logo-2.jpeg
ORGANIZER;CN="Loudmouth Productions":MAILTO:phil.bridges@pei.sympatico.ca
END:VEVENT
BEGIN:VEVENT
DTSTART;TZID=America/Halifax:20251220T193000
DTEND;TZID=America/Halifax:20251220T220000
DTSTAMP:20260421T154016
CREATED:20250514T181911Z
LAST-MODIFIED:20250726T162812Z
UID:1444-1766259000-1766268000@www.loudmouthproductions.ca
SUMMARY:The Grand Tour With A Dash of Christmas Summerside\, PEI- SOLD OUT
DESCRIPTION:Back By Popular Demand After 3 Sold Out Shows Last Christmas!\nJoin THE GRAND TOUR for an unforgettable evening of Country Classics with a festive twist! This show promises to transport audiences back to the golden eras of the 50s\, 60s\, 70s\, and 80s\, while also sprinkling in a dash of Christmas cheer with classic holiday songs that everyone can sing along to!\nThere is no better way to get in the Christmas spirit than spending time with family and friends and listening to classic country music by The Grand Tour!\nDon’t miss this heartwarming blend of timeless country hits and holiday favorites – it’s the perfect way to celebrate the season! \n“Step right up\, Come on in…”
URL:https://www.loudmouthproductions.ca/event/the-grand-tour-with-a-dash-of-christmas-summerside-pei-3/
LOCATION:The Scott MacAulay Performing Arts Centre\, College of Piping\, 619 Water St E\, Summerside\, PE\, C1N 4H8\, Canada
ATTACH;FMTTYPE=image/jpeg:https://www.loudmouthproductions.ca/wp-content/uploads/2025/05/The-Grand-Tour-Christmas-logo-2.jpeg
ORGANIZER;CN="Loudmouth Productions":MAILTO:phil.bridges@pei.sympatico.ca
END:VEVENT
END:VCALENDAR